BEGIN:VCALENDAR
VERSION:2.0
PRODID:-//Rugeley and Armitage Camera Club - ECPv6.15.20//NONSGML v1.0//EN
CALSCALE:GREGORIAN
METHOD:PUBLISH
X-ORIGINAL-URL:https://rugeleyandarmitagecameraclub.com
X-WR-CALDESC:Events for Rugeley and Armitage Camera Club
REFRESH-INTERVAL;VALUE=DURATION:PT1H
X-Robots-Tag:noindex
X-PUBLISHED-TTL:PT1H
BEGIN:VTIMEZONE
TZID:Europe/London
BEGIN:DAYLIGHT
TZOFFSETFROM:+0000
TZOFFSETTO:+0100
TZNAME:BST
DTSTART:20240331T010000
END:DAYLIGHT
BEGIN:STANDARD
TZOFFSETFROM:+0100
TZOFFSETTO:+0000
TZNAME:GMT
DTSTART:20241027T010000
END:STANDARD
BEGIN:DAYLIGHT
TZOFFSETFROM:+0000
TZOFFSETTO:+0100
TZNAME:BST
DTSTART:20250330T010000
END:DAYLIGHT
BEGIN:STANDARD
TZOFFSETFROM:+0100
TZOFFSETTO:+0000
TZNAME:GMT
DTSTART:20251026T010000
END:STANDARD
BEGIN:DAYLIGHT
TZOFFSETFROM:+0000
TZOFFSETTO:+0100
TZNAME:BST
DTSTART:20260329T010000
END:DAYLIGHT
BEGIN:STANDARD
TZOFFSETFROM:+0100
TZOFFSETTO:+0000
TZNAME:GMT
DTSTART:20261025T010000
END:STANDARD
END:VTIMEZONE
BEGIN:VEVENT
DTSTART;VALUE=DATE:20250920
DTEND;VALUE=DATE:20250922
DTSTAMP:20260425T010919
CREATED:20250912T140007Z
LAST-MODIFIED:20250912T140007Z
UID:15267-1758326400-1758499199@rugeleyandarmitagecameraclub.com
SUMMARY:Huddlesford Heritage Weekend
DESCRIPTION:Huddlesford Heritage Weekend 20/21 September 2025\nYou are invited to this great FREE event that all the family can enjoy and which will give you lots of opportunities for a a variety of photographs – too many to list so just follow the link below:\nhttps://heritagegathering.uk/
URL:https://rugeleyandarmitagecameraclub.com/event/huddlesford-heritage-weekend/
CATEGORIES:Third Party Event
END:VEVENT
END:VCALENDAR